BEGIN:VCALENDAR
VERSION:2.0
PRODID:-//hacksw/handcal//NONSGML v1.0//EN
CALSCALE:GREGORIAN
BEGIN:VEVENT
LOCATION:Gardner Ave. & Thomas St.\, Brooklyn\, NY 11222
DESCRIPTION:
DTSTART:20260515T233000Z
DTEND:20260516T013000Z
SUMMARY:BUNT.
URL;VALUE=URI:https://www.axs.com/events/1258059/bunt-tickets
DTSTAMP:20260420T013200Z
UID:69e5821053faa
END:VEVENT
END:VCALENDAR
