BEGIN:VCALENDAR
VERSION:2.0
PRODID:-//hacksw/handcal//NONSGML v1.0//EN
CALSCALE:GREGORIAN
BEGIN:VEVENT
LOCATION:620 Atlantic Avenue\, Brooklyn\, NY 11217
DESCRIPTION:
DTSTART:20260606T000000Z
DTEND:20260606T020000Z
SUMMARY:Carín León
URL;VALUE=URI:https://www.axs.com/events/1290214/carin-leon-tickets
DTSTAMP:20260420T051045Z
UID:69e5b5552b1f2
END:VEVENT
END:VCALENDAR
