BEGIN:VCALENDAR
VERSION:2.0
PRODID:-//hacksw/handcal//NONSGML v1.0//EN
CALSCALE:GREGORIAN
BEGIN:VEVENT
LOCATION:191 Highland Ave\, Somerville\, MA 02143
DESCRIPTION:
DTSTART:20261112T003000Z
DTEND:20261112T023000Z
SUMMARY:Bedouine
URL;VALUE=URI:https://www.axs.com/events/1409567/bedouine-tickets
DTSTAMP:20260420T013209Z
UID:69e58219656b8
END:VEVENT
END:VCALENDAR
